BEGIN:VCALENDAR
VERSION:2.0
PRODID:-//Art Schultheiss - ECPv6.15.11//NONSGML v1.0//EN
CALSCALE:GREGORIAN
METHOD:PUBLISH
X-WR-CALNAME:Art Schultheiss
X-ORIGINAL-URL:https://artschultheiss.com
X-WR-CALDESC:Events for Art Schultheiss
REFRESH-INTERVAL;VALUE=DURATION:PT1H
X-Robots-Tag:noindex
X-PUBLISHED-TTL:PT1H
BEGIN:VTIMEZONE
TZID:UTC
BEGIN:STANDARD
TZOFFSETFROM:+0000
TZOFFSETTO:+0000
TZNAME:UTC
DTSTART:20240101T000000
END:STANDARD
END:VTIMEZONE
BEGIN:VEVENT
DTSTART;TZID=UTC:20250917T080000
DTEND;TZID=UTC:20250929T170000
DTSTAMP:20260425T165519
CREATED:20250917T221446Z
LAST-MODIFIED:20250917T221805Z
UID:6074-1758096000-1759165200@artschultheiss.com
SUMMARY:Venice International Art Fair
DESCRIPTION:Venice International Art Fair – Contemporary Art in the Heart of Venice\nThe Venice International Art Fair is one of the most prestigious contemporary art events\, bringing together talented artists\, galleries\, and collectors from all around the world. Hosted at the historical Palazzo Albrizzi-Capello in Venice\, Italy\, the fair offers a unique opportunity to experience groundbreaking exhibitions in painting\, photography\, sculpture\, video art\, installation\, and performance. \nOrganized by ITSLIQUID Group in collaboration with ACIT Venice (Italian-German Cultural Association)\, the event has become a global meeting point for art lovers\, curators\, and professionals. Beyond being an exhibition space\, it serves as a vibrant platform that connects emerging talents with established names in the international art scene. \n📅 Next Edition: September 17 – 29\, 2025📍 Venue: Palazzo Albrizzi-Capello\, Venice\, Italy \nIf you are passionate about discovering new artistic perspectives and engaging with the global art community\, the Venice International Art Fair is an unmissable experience.
URL:https://artschultheiss.com/event/venice-international-art-fair/
LOCATION:Palazzo Albrizzi-Capello\, Venice\, Italy\, Palazzo Albrizzi-Capello\, Venice\, Italy\, Venice\, Italy
CATEGORIES:Fairs
ATTACH;FMTTYPE=image/png:https://artschultheiss.com/wp-content/uploads/2025/09/Venice-International-Art-Fair.png
END:VEVENT
END:VCALENDAR